BEGIN:VCALENDAR
VERSION:2.0
CALSCALE:GREGORIAN
METHOD:PUBLISH
X-WR-TIMEZONE:Australia/Sydney
BEGIN:VTIMEZONE
TZID:Australia/Sydney
BEGIN:STANDARD
TZNAME:AEST
DTSTART:19700101T000000
TZOFFSETFROM:+1100
TZOFFSETTO:+1000
END:STANDARD
END:VTIMEZONE
BEGIN:VEVENT
DTSTART;TZID=Australia/Sydney:20250730T000000
DTEND;TZID=Australia/Sydney:20250730T150000
DTSTAMP:20260420T182247
UID:124
SUMMARY:Flavours Of The World
DESCRIPTION:




12:00pm-12:30pm whole school assembly (parents invited) to introduce cultural project&amp;nbsp;
12:30pm -3:00pm whole school rotations in classrooms (timetable to come)&amp;nbsp;


SEQUENCE:0
STATUS:CONFIRMED
TRANSP:OPAQUE
END:VEVENT
END:VCALENDAR